BEGIN:VCALENDAR
VERSION:2.0
PRODID:-//Woodstock Byrdcliffe Guild - ECPv6.15.17.1//NONSGML v1.0//EN
CALSCALE:GREGORIAN
METHOD:PUBLISH
X-ORIGINAL-URL:https://www.woodstockguild.org
X-WR-CALDESC:Events for Woodstock Byrdcliffe Guild
REFRESH-INTERVAL;VALUE=DURATION:PT1H
X-Robots-Tag:noindex
X-PUBLISHED-TTL:PT1H
BEGIN:VTIMEZONE
TZID:UTC
BEGIN:STANDARD
TZOFFSETFROM:+0000
TZOFFSETTO:+0000
TZNAME:UTC
DTSTART:20240101T000000
END:STANDARD
END:VTIMEZONE
BEGIN:VEVENT
DTSTART;TZID=UTC:20250606T180000
DTEND;TZID=UTC:20250606T193000
DTSTAMP:20260425T104237
CREATED:20250605T192308Z
LAST-MODIFIED:20250605T192308Z
UID:14306-1749232800-1749238200@www.woodstockguild.org
SUMMARY:Slide Show & Artist Talk with Integral Potter Chris Baskin
DESCRIPTION:Woodstock Byrdcliffe Guild welcomes Portland\, Oregon\, based Integral Potter Chris Baskin (Byrdcliffe resident and Associate Director of Ceramics 1996-99). Free image lecture Friday narrates his artistic and developmental path through material and spiritual transformations.\n\n\nMDIV\, MFA\, Chris has recently presented on an NCECA panel: Ceramic Community as a Lab for Self Awareness\, and a Discovering Stillness panel: Quaker\, Tibetan Buddhist\, Franciscan\, and Artistic approaches to Contemplation. FREE AND OPEN TO THE PUBLIC
URL:https://www.woodstockguild.org/event/slide-show-artist-talk-with-integral-potter-chris-baskin/
LOCATION:Byrdcliffe Theatre\, 380 Upper Byrdcliffe Rd\, Woodstock\, NY\, 12498\, United States
CATEGORIES:classes & workshops
ATTACH;FMTTYPE=image/jpeg:https://www.woodstockguild.org/wp-content/uploads/2025/04/HEIF-Image_2.jpg
END:VEVENT
BEGIN:VEVENT
DTSTART;TZID=UTC:20250607T110000
DTEND;TZID=UTC:20250607T140000
DTSTAMP:20260425T104237
CREATED:20250605T191009Z
LAST-MODIFIED:20250605T212455Z
UID:14297-1749294000-1749304800@www.woodstockguild.org
SUMMARY:Byrdcliffe Plein Air Workshop with Anne Leith
DESCRIPTION:Saturday\, June 7 & Sunday\, June 8\, 2025 from 11 AM – 2 PM \nReserve your space: https://bit.ly/43Siqc4 \n$180 Byrdcliffe Members / $200 Not-yet-members \nAnne Leith will lead a 2-day plein-air painting workshop on the grounds of the historic Byrdcliffe Colony. Participants will learn basic techniques for set-up\, framing up of the image\, laying down paint in a rapid and effective way\, and fabulous mark-making. \nMaterials to bring: \n\nPortable easel: Many portable easels include a small palette and a drawer for paint. If you prefer to work larger on a different easel\, you may want to bring a folding table and a bag for your gear. A bungee cord is an excellent thing to have to keep the easel from blowing over in most weather conditions.\nSurface to paint on of course. This can be panel or canvas\, but remember it needs to have a stable surface. If you work on paper it might blow away.\nBrushes\, solvents\, paint – please note that you may use any kind of paint you prefer\, with the exception of spray paint.\nRags\nWater\, a hat\, and bug spray\n\nABOUT ANNE LEITH \nI am primarily a painter of places.  I have been a plein-air painter for many years\, working in all weather conditions directly from nature. I also paint landscapes in the studio from memory\, which brings in an abstract vision\, more dreamlike in quality. \nMetallic foil is something I enjoy using in my oil paintings. It adds a reflective light element that resembles the sky and water\, attempting to echo nature’s constantly shifting range of tones and colors. \n \nSince she was very young Leith has been consistently making art\, indeed\, it would be impossible to stop her. She is an adventurer\, and has lived in Europe (France\, England\, Italy) as well as New York\, CA\, VT and New Hampshire. All these places have contributed to her vision of the world and nature\, which feeds her inspiration. Although primarily known as a landscape painter\, the work equally speaks to her interest in bold\, abstract mark-making\, and sometimes\, a magical ‘Alice in Wonderland’ sensibility. \nCurrently based in the Hudson River Valley\, Leith’s new work reflects the light on the river and the clouds at sunset. She includes metallic leaf in some of her work\, which adds to this effect of luminosity.
URL:https://www.woodstockguild.org/event/byrdcliffe-plein-air-workshop-with-anne-leith/
LOCATION:White Pines @ Byrdcliffe Colony\, 454 Upper Byrdcliffe Rd\, Woodstock\, NY\, 12498\, United States
CATEGORIES:classes & workshops
ATTACH;FMTTYPE=image/jpeg:https://www.woodstockguild.org/wp-content/uploads/2025/04/Anne@PlatteClove2020.jpg
END:VEVENT
BEGIN:VEVENT
DTSTART;TZID=UTC:20250628T100000
DTEND;TZID=UTC:20250628T140000
DTSTAMP:20260425T104237
CREATED:20250606T143226Z
LAST-MODIFIED:20250606T143226Z
UID:14339-1751104800-1751119200@www.woodstockguild.org
SUMMARY:Handbuilding Planter Workshop
DESCRIPTION:Make an earthenware planter with extruded clay parts. \nThis is a four hour handbuilding workshop using extruded clay tube shapes to create a unique planter for your garden or home. \nThe workshop will start with a demonstration of laying out the planter design cutting\, joining extruded pieces to build the walls and forms. After the demonstration\, the remainder of the class will be assembling your own pieces with guidance. The finished planters will be around 8” x 12” x 6” to fit on a widows sill or shelf. \nClay and tools are provided. No clay experience needed but helpful. \nThe pieces will be finished in one class\, left to dry and fired when ready. \nInstructor Julie Knight \n$40 individuals (includes materials for one planter) \n$70 special for parent and one child (includes materials for two planters) \n\nRESERVE YOUR SPACE: https://www.woodstockguild.org/events/handbuilding-planter-workshop/
URL:https://www.woodstockguild.org/event/handbuilding-planter-workshop/
LOCATION:Byrdcliffe Ceramics Studio\, 485 Upper Byrdcliffe Rd\, Woodstock\, NY\, 12498\, United States
CATEGORIES:classes & workshops
ATTACH;FMTTYPE=image/png:https://www.woodstockguild.org/wp-content/uploads/2025/06/Byrdcliffe-Ceramics-Classes_Square_2025_JulieKnight2.png
END:VEVENT
END:VCALENDAR