BEGIN:VCALENDAR
VERSION:2.0
PRODID:-//Woodstock Byrdcliffe Guild - ECPv6.15.17.1//NONSGML v1.0//EN
CALSCALE:GREGORIAN
METHOD:PUBLISH
X-WR-CALNAME:Woodstock Byrdcliffe Guild
X-ORIGINAL-URL:https://www.woodstockguild.org
X-WR-CALDESC:Events for Woodstock Byrdcliffe Guild
REFRESH-INTERVAL;VALUE=DURATION:PT1H
X-Robots-Tag:noindex
X-PUBLISHED-TTL:PT1H
BEGIN:VTIMEZONE
TZID:UTC
BEGIN:STANDARD
TZOFFSETFROM:+0000
TZOFFSETTO:+0000
TZNAME:UTC
DTSTART:20240101T000000
END:STANDARD
END:VTIMEZONE
BEGIN:VEVENT
DTSTART;TZID=UTC:20250803T100000
DTEND;TZID=UTC:20250803T160000
DTSTAMP:20260423T081255
CREATED:20250619T052045Z
LAST-MODIFIED:20250619T052045Z
UID:14423-1754215200-1754236800@www.woodstockguild.org
SUMMARY:Puppet Making for Stop-Motion Animation
DESCRIPTION:Register here \nEver wanted to bring a creature to life? Take a Sunday and learn how to build a fully-poseable character that you can bring to life through stop-motion animation in this extensive course! \nWe’ll generate ideas (feel free to show up with one!)\, make a bendable wire skeleton\, add hardware so it can stand on its own\, bulk out the body with foam and clay\, and give it some character by needle felting on fur and\, of course\, adding eyes and a mouth \nThis course uses the products Propoxy 20 and Barge All-Purpose Cement\, gloves will be provided and encouraged to be used! \nAll materials are provided and covered in the cost of the class \nJOHN QUINN is a current Byrdcliffe Artist-in-Residence\, graduate of Pratt Institute’s 2D Animation program\, and a presenting animator  in this past year’s Woodstock Film Festival.  His work is often experimental and analog – a mix of stop motion and various mediums on paper.  A goal outside of his personal practice is to make animation more accessible\, which is the idea behind this workshop series.  Lately he’s been drawing inspiration from programs like The Electric Company and Schoolhouse Rock and animators Sally Cruikshank and Vince Collins.  “‘The magic of animation’ I think turns a lot of people away from the medium\, and even though it is kind of magic\, anybody can do it – even people that can’t draw”. \nWorkshop fee: $140 WBG members\, $150 not-yet members\nRegister here \nWorkshop limited to 6.
URL:https://www.woodstockguild.org/event/puppet-making-for-stop-motion-animation/
LOCATION:Kleinert-James Gallery\, 34 Tinker St\, Woodstock\, NY\, 12498\, United States
CATEGORIES:classes & workshops
ATTACH;FMTTYPE=image/png:https://www.woodstockguild.org/wp-content/uploads/2025/05/Screenshot-2025-05-12-at-2.23.33-PM-1.png
END:VEVENT
END:VCALENDAR