BEGIN:VCALENDAR
VERSION:2.0
PRODID:-//Woodstock Byrdcliffe Guild - ECPv6.15.17.1//NONSGML v1.0//EN
CALSCALE:GREGORIAN
METHOD:PUBLISH
X-WR-CALNAME:Woodstock Byrdcliffe Guild
X-ORIGINAL-URL:https://www.woodstockguild.org
X-WR-CALDESC:Events for Woodstock Byrdcliffe Guild
REFRESH-INTERVAL;VALUE=DURATION:PT1H
X-Robots-Tag:noindex
X-PUBLISHED-TTL:PT1H
BEGIN:VTIMEZONE
TZID:UTC
BEGIN:STANDARD
TZOFFSETFROM:+0000
TZOFFSETTO:+0000
TZNAME:UTC
DTSTART:20240101T000000
END:STANDARD
END:VTIMEZONE
BEGIN:VEVENT
DTSTART;TZID=UTC:20250628T100000
DTEND;TZID=UTC:20250628T140000
DTSTAMP:20260423T161859
CREATED:20250606T143226Z
LAST-MODIFIED:20250606T143226Z
UID:14339-1751104800-1751119200@www.woodstockguild.org
SUMMARY:Handbuilding Planter Workshop
DESCRIPTION:Make an earthenware planter with extruded clay parts. \nThis is a four hour handbuilding workshop using extruded clay tube shapes to create a unique planter for your garden or home. \nThe workshop will start with a demonstration of laying out the planter design cutting\, joining extruded pieces to build the walls and forms. After the demonstration\, the remainder of the class will be assembling your own pieces with guidance. The finished planters will be around 8” x 12” x 6” to fit on a widows sill or shelf. \nClay and tools are provided. No clay experience needed but helpful. \nThe pieces will be finished in one class\, left to dry and fired when ready. \nInstructor Julie Knight \n$40 individuals (includes materials for one planter) \n$70 special for parent and one child (includes materials for two planters) \n\nRESERVE YOUR SPACE: https://www.woodstockguild.org/events/handbuilding-planter-workshop/
URL:https://www.woodstockguild.org/event/handbuilding-planter-workshop/
LOCATION:Byrdcliffe Ceramics Studio\, 485 Upper Byrdcliffe Rd\, Woodstock\, NY\, 12498\, United States
CATEGORIES:classes & workshops
ATTACH;FMTTYPE=image/png:https://www.woodstockguild.org/wp-content/uploads/2025/06/Byrdcliffe-Ceramics-Classes_Square_2025_JulieKnight2.png
END:VEVENT
END:VCALENDAR