BEGIN:VCALENDAR
VERSION:2.0
PRODID:-//Woodstock Byrdcliffe Guild - ECPv6.15.17.1//NONSGML v1.0//EN
CALSCALE:GREGORIAN
METHOD:PUBLISH
X-ORIGINAL-URL:https://www.woodstockguild.org
X-WR-CALDESC:Events for Woodstock Byrdcliffe Guild
REFRESH-INTERVAL;VALUE=DURATION:PT1H
X-Robots-Tag:noindex
X-PUBLISHED-TTL:PT1H
BEGIN:VTIMEZONE
TZID:UTC
BEGIN:STANDARD
TZOFFSETFROM:+0000
TZOFFSETTO:+0000
TZNAME:UTC
DTSTART:20240101T000000
END:STANDARD
END:VTIMEZONE
BEGIN:VEVENT
DTSTART;TZID=UTC:20251206T200000
DTEND;TZID=UTC:20251206T220000
DTSTAMP:20260423T151102
CREATED:20250925T165108Z
LAST-MODIFIED:20251111T180648Z
UID:14744-1765051200-1765058400@www.woodstockguild.org
SUMMARY:Jules Shear at the Byrdcliffe Theater
DESCRIPTION:Experience an unforgettable evening with Jules Shear at the historic Byrdcliffe Theater!  \nTICKETS: Purchase tickets \nWorld renowned singer–songwriter\, Jules Shear\, will take the stage for one night only at the historic Byrdcliffe Theater in Woodstock\, NY on Saturday December 6\, 2024 at 8:00 pm. From iconic hits such as Cyndi Lauper’s “All Through the Night\,” The Bangles’ “If She Knew What She Wants\,” to Jules’ own pop hit\, “Steady\,” Jules Shear’s songwriting has left an indelible mark on the world of music. \nIn addition to his songwriting and performing\, Jules Shear holds a special place in music history as the original host of the groundbreaking series\, MTV Unplugged. For the first 13 episodes\, Jules set the stage for intimate and raw performances that became a cultural phenomenon. \nThe historic Byrdcliffe Theater provides the perfect backdrop for this extraordinary evening. Nestled amidst the majestic surroundings of the Byrdcliffe Art Colony\, the theater exudes an ambiance that transports you to a bygone era\, amplifying the magic of Jules Shear’s music. \nphoto by Dion Ogust \n\n\n\n\nConcert at the Byrdcliffe Theater\n380 Upper Byrdcliffe Road\, Woodstock\, NY\nDoors open at 7:30 pm\, concert at 8 pm with first-come seating.TICKETS: Purchase tickets
URL:https://www.woodstockguild.org/event/jules-shear-at-the-byrdcliffe-theater/
LOCATION:Byrdcliffe Theatre\, 380 Upper Byrdcliffe Rd\, Woodstock\, NY\, 12498\, United States
CATEGORIES:Concert
ATTACH;FMTTYPE=image/jpeg:https://www.woodstockguild.org/wp-content/uploads/2025/09/JulesShear-56BW_photo-Dion-Ogust-scaled.jpg
END:VEVENT
END:VCALENDAR