BEGIN:VCALENDAR
VERSION:2.0
PRODID:-//Woodstock Byrdcliffe Guild - ECPv6.15.17.1//NONSGML v1.0//EN
CALSCALE:GREGORIAN
METHOD:PUBLISH
X-ORIGINAL-URL:https://www.woodstockguild.org
X-WR-CALDESC:Events for Woodstock Byrdcliffe Guild
REFRESH-INTERVAL;VALUE=DURATION:PT1H
X-Robots-Tag:noindex
X-PUBLISHED-TTL:PT1H
BEGIN:VTIMEZONE
TZID:UTC
BEGIN:STANDARD
TZOFFSETFROM:+0000
TZOFFSETTO:+0000
TZNAME:UTC
DTSTART:20240101T000000
END:STANDARD
END:VTIMEZONE
BEGIN:VEVENT
DTSTART;VALUE=DATE:20260418
DTEND;VALUE=DATE:20260419
DTSTAMP:20260421T161703
CREATED:20260416T172927Z
LAST-MODIFIED:20260418T145827Z
UID:16836-1776470400-1776556799@www.woodstockguild.org
SUMMARY:byCONTRAST exhibition opens
DESCRIPTION:On exhibit 18 April – 10 May \nGallery hours: Friday – Sunday\, 12 – 5 PM \nin partnership with Studio Art Quilt Associates (SAQA) \nQuilt traditions abound in all cultures\, and this exhibition is a testament to the complexity and beauty of this important art form. Thirty SAQA fiber artists created work exploring contrasts found in everyday expressions. The selected entries examine seemingly contradictory or incongruous figures of speech used for dramatic\, humorous\, or ironic effect. The show was curated by fiber artist Ann Johnston\, whose experimentation with dye and fabric has led to numerous exhibitions worldwide\, including over twenty solo exhibits and multiple publications.
URL:https://www.woodstockguild.org/event/bycontrast-exhibition-opens/
LOCATION:Kleinert James Gallery
CATEGORIES:Exhibition,Opening reception
ATTACH;FMTTYPE=image/jpeg:https://www.woodstockguild.org/wp-content/uploads/2026/04/bc__brightabyssfull.jpeg
END:VEVENT
BEGIN:VEVENT
DTSTART;TZID=UTC:20260227T120000
DTEND;TZID=UTC:20260412T170000
DTSTAMP:20260421T161703
CREATED:20260115T220247Z
LAST-MODIFIED:20260414T155400Z
UID:16128-1772193600-1776013200@www.woodstockguild.org
SUMMARY:All the All: 2026 Byrdcliffe Members' Show
DESCRIPTION:2026 Annual Members’ Show\, All the All. This year’s theme is inspired by Shakespeare’s Sonnet 31 and celebrates Byrdcliffe’s creative community.  Additional information
URL:https://www.woodstockguild.org/event/all-the-all-2026-byrdcliffe-members-show/
LOCATION:Kleinert James Gallery
CATEGORIES:Exhibition,Opening reception
ATTACH;FMTTYPE=image/jpeg:https://www.woodstockguild.org/wp-content/uploads/2026/01/WBG_Member_1640x664.jpg
END:VEVENT
BEGIN:VEVENT
DTSTART;TZID=UTC:20251205T170000
DTEND;TZID=UTC:20251205T190000
DTSTAMP:20260421T161703
CREATED:20251002T174124Z
LAST-MODIFIED:20251202T183748Z
UID:14782-1764954000-1764961200@www.woodstockguild.org
SUMMARY:"26th Annual 5 by 7 Show"
DESCRIPTION:Friday 5 December\n26th Annual Fundraising Exhibition\nOpening reception and preview sale\nBe the first to preview and purchase artwork\n\nFirst Dibs: 4-5 PM entry to sale\nPreview: 5-7 PM entry to sale\nPurchase advance tickets \nWorks available to general public at gallery and on-line\nSaturday 6 December 12 PM\n\nJoin us for a First Dibs and Preview sale in advance of the show’s opening to the general public.\nAdvance tickets available here. A limited number of tickets will be available at the door. \n\nThe Byrdcliffe 5 by 7 Show is one of Woodstock’s premier events showcasing artists from the Hudson Valley and beyond. 5″ x 7″ sized artworks – of various styles and media – are exhibited anonymously and sold for $150 each. The artist is revealed when the work is purchased.\n\n\n\n\n 
URL:https://www.woodstockguild.org/event/26th-annual-5-by-7-show-opening-reception/
LOCATION:Kleinert-James Gallery\, 34 Tinker St\, Woodstock\, NY\, 12498\, United States
CATEGORIES:Exhibition,Opening reception
ATTACH;FMTTYPE=image/jpeg:https://www.woodstockguild.org/wp-content/uploads/2025/10/572048525_1395847175777871_2046169992613681100_n.jpg
END:VEVENT
BEGIN:VEVENT
DTSTART;TZID=UTC:20251122T150000
DTEND;TZID=UTC:20251122T160000
DTSTAMP:20260421T161703
CREATED:20251121T151847Z
LAST-MODIFIED:20251121T151850Z
UID:15093-1763823600-1763827200@www.woodstockguild.org
SUMMARY:Curator Tour: Sharing the Space
DESCRIPTION:Sharing the Space\nHudson Valley contemporary photographers in dialogue with historic Byrdcliffe artists \nJoin Guest Curator Anne Arden McDonald and Byrdcliffe Resident Historian Henry T. Ford as they lead a Walk & Talk tour of our latest exhibition. \n \n The Walk & Talk is free\, but there is limited space\, so please reserve a spot by emailing info@woodstockguild.org with Curator Tour in the subject line. \n \nSince the artist-founders of Byrdcliffe landed in Woodstock in1902\, artists have sought refuge in the natural beauty of the Hudson Valley. This exhibition brings together historic landscape paintings from the Byrdcliffe collection\, in a dialogue across time with landscape photographs from contemporary photographers\, all sharing the space of the Hudson Valley.
URL:https://www.woodstockguild.org/event/curator-tour-sharing-the-space/
LOCATION:Kleinert-James Gallery\, 34 Tinker St\, Woodstock\, NY\, 12498\, United States
CATEGORIES:Exhibition,Open House / Tours,Special events
ATTACH;FMTTYPE=image/png:https://www.woodstockguild.org/wp-content/uploads/2025/11/Screenshot-2025-10-17-at-5.08.33-PM.png
END:VEVENT
BEGIN:VEVENT
DTSTART;TZID=UTC:20251025T160000
DTEND;TZID=UTC:20251025T180000
DTSTAMP:20260421T161703
CREATED:20251002T160351Z
LAST-MODIFIED:20251016T194634Z
UID:14763-1761408000-1761415200@www.woodstockguild.org
SUMMARY:"Sharing the Space" opening reception
DESCRIPTION:Hudson Valley contemporary photographers in dialogue with historic Byrdcliffe artists. \nAdditional information.
URL:https://www.woodstockguild.org/event/sharing-the-space-opening-reception/
LOCATION:Kleinert-James Gallery\, 34 Tinker St\, Woodstock\, NY\, 12498\, United States
CATEGORIES:Exhibition,Opening reception
ATTACH;FMTTYPE=image/jpeg:https://www.woodstockguild.org/wp-content/uploads/2025/09/Untitled-copy-1.jpeg
END:VEVENT
BEGIN:VEVENT
DTSTART;TZID=UTC:20250920T160000
DTEND;TZID=UTC:20250920T180000
DTSTAMP:20260421T161703
CREATED:20250918T152148Z
LAST-MODIFIED:20251009T145935Z
UID:14680-1758384000-1758391200@www.woodstockguild.org
SUMMARY:Opening reception for "Crossing Over | Nancy Azara"
DESCRIPTION:CROSSING OVER – an exhibition featuring the sculptures\, paintings\, and prints of the late feminist artist Nancy Azara (1930-2024)\, and encaustic paintings by her widow\, Darla Bjork. Based in New York City and Woodstock\, NY\, both artists’ works have been characterized by expressive\, gestural use of materials and iconic imagery. Nancy Azara curated numerous exhibitions for Byrdcliffe\, including Lily: Loosely Seen (2003)\, Paths: Real and Imagined (2007)\, Eccentric Portraits (2011)\, and HAND/MADE: The Digital Age and The Industrial Revolution (2015). Work will be on exhibit Saturday\, September 20\, 2025 thru Sunday\, October 13\, 2025. A public reception will be held on Saturday\, September 20\, 2025\, from 4-6 PM.
URL:https://www.woodstockguild.org/event/opening-reception-for-crossing-over-nancy-azara/
LOCATION:Kleinert-James Gallery\, 34 Tinker St\, Woodstock\, NY\, 12498\, United States
CATEGORIES:Exhibition,Opening reception
ATTACH;FMTTYPE=image/jpeg:https://www.woodstockguild.org/wp-content/uploads/2025/09/crossing-over-azara-bjork-copy.jpg
END:VEVENT
BEGIN:VEVENT
DTSTART;TZID=UTC:20250914T140000
DTEND;TZID=UTC:20250914T170000
DTSTAMP:20260421T161703
CREATED:20250909T165142Z
LAST-MODIFIED:20250909T165802Z
UID:14662-1757858400-1757869200@www.woodstockguild.org
SUMMARY:"Salvage Stories" Closing reception and Ken Bulter music performance
DESCRIPTION:The exhibition\,”Salvage Stories | Seven Sculptors”\, closes with a reception for the artists and a special musical performance by Ken Butler at the Kleinert/James Center for the Arts on Sunday\, September 14\, 2025 from 2:00 – 5:00 PM with music from 3:00 – 4:00 PM. This event is free and open to the public.\n\nABOUT KEN BUTLER\nKen Butler is a musician-artist. Recombining disassociated found objects\, he constructs – and often performs on innovative musical instruments\, transforming our useless waste into objects of whimsy\, joy\, and rhythmic musicality.\n\n\nABOUT SALVAGE STORIES\nCurated by Alice Zinnes and Carol Diamond\, Salvage Stories | Seven Sculptors features work by Eric Banks\, Ken Butler\, Carol Diamond\, Bonny Leibowitz\, Shari Mendelson\, Shivani Patel\, and Mark Van Wagner. Each artist transforms the mundane trash of contemporary society into sculpture that brings the long-forgotten stories of human refuse into the poignant personal stories of the artist\, and in the process\, turns the ashes of our manmade world into poignant works of art.
URL:https://www.woodstockguild.org/event/salvage-stories-closing-reception-and-ken-bulter-music-performance/
LOCATION:Kleinert-James Gallery\, 34 Tinker St\, Woodstock\, NY\, 12498\, United States
CATEGORIES:Concert,Exhibition
ATTACH;FMTTYPE=image/jpeg:https://www.woodstockguild.org/wp-content/uploads/2025/09/Ken-Butler-Ad.jpg
END:VEVENT
BEGIN:VEVENT
DTSTART;TZID=UTC:20250831T140000
DTEND;TZID=UTC:20250831T160000
DTSTAMP:20260421T161703
CREATED:20250815T172154Z
LAST-MODIFIED:20250815T172704Z
UID:14622-1756648800-1756656000@www.woodstockguild.org
SUMMARY:Women Sculpture Group Walkthrough of SALVAGE STORIES exhibition
DESCRIPTION:Join us for a gallery walkthrough hosted by the Women Sculptor Group (WSG) in collaboration with the Woodstock Byrdcliffe Guild\, of the current exhibition\, Salvage Stories: Seven Sculptors\, co-curated by Alice Zinnes and Carol Diamond. This special sculpture show features artworks by Eric Banks\, Ken Butler\, Carol Diamond\, Bonny Leibowitz\, Shari Mendelson\, Shivani Patel\, and Mark Van Wagner.\nExhibiting artists Carol Diamond\, Shivani Patel\, Shari Mendelson\, and Eric Banks\, will be present to speak about their work\, together with co-curator Alice Zinnes as moderator.\nPanel Artists: Carol Diamond\, Shari Mendelson\, Shivani Patel\, Eric Banks in conversation with co-curator Alice Zinnes\n\nAbout Salvage Stories: Seven Sculptors: Seven artists transform the mundane detritus of contemporary society into sculpture that takes on new life from upcycled materials. Curated by Alice Zinnes and Carol Diamond. Exhibition Catalogue. \n\nAbout the Women Sculptor Group: The Women Sculptor Group is a NY-based organization that supports women sculptors by attending shows\, doing walk-throughs\, and sponsoring open calls and exhibition events.
URL:https://www.woodstockguild.org/event/women-sculpture-group-walkthrough-of-salvage-stories-exhibition/
LOCATION:Kleinert-James Gallery\, 34 Tinker St\, Woodstock\, NY\, 12498\, United States
CATEGORIES:Artist talk,Exhibition,Special events
ATTACH;FMTTYPE=image/jpeg:https://www.woodstockguild.org/wp-content/uploads/2025/08/532563624_1325438432818746_2088924727140999827_n.jpg
END:VEVENT
BEGIN:VEVENT
DTSTART;TZID=UTC:20250810T170000
DTEND;TZID=UTC:20250810T180000
DTSTAMP:20260421T161703
CREATED:20250807T200157Z
LAST-MODIFIED:20250807T200924Z
UID:14614-1754845200-1754848800@www.woodstockguild.org
SUMMARY:Flow: David Van Tiegham Acoustic Collaboration with sculptor Ian Laughlin
DESCRIPTION:Join us for a special sonic collaboration with renowned musician David Van Tieghem\, together with FLOW\, an acoustic sculpture by Ian Laughlin\, on Sunday\, August 10th at 5 pm (rain date August 17th at 5 pm) at the Woodstock Spa located at 62 Ricks Road\, Woodstock\, NY 12498. David Van Tieghem is an American composer\, percussionist\, and sound designer\, best known for his philosophy of utilizing any available object as a percussion instrument. Ian Laughlin is an artist whose work is dedicated to exploring injustices and finding solutions to the many challenges facing the planet.\nMore about past collaborations between these two artists can be viewed here. \nThis special event is part of S.C.A.P E.\, the 2025 outdoor biennial sculpture park sponsored by the Woodstock Byrdcliffe Guild on the meadows and woodlands of the Woodstock Spa. This concert is free and open to the public. \nABOUT DAVID VAN TIEGHEM\nDavid Van Tieghem is an American composer and sound designer known for his philosophy of utilizing any available object as a percussion instrument. In his long career\, Van Tieghem has performed and composed for numerous films and productions\, as well as collaborating with Steve Reich\, Laurie Anderson\, Brian Eno\, Talking Heads\, David Byrne\, Deborah Harry and Chris Stein of Blondie\, Adrian Belew\, Jerry Marotta\, John Zorn\, Sylvia Bullett\, and Happy Traum. Along with many other awards\, Van Tieghem was the recipient of a Guggenheim Foundation Fellowship for Music Composition (2007). \nABOUT IAN LAUGHLIN\nOriginally from New Zealand\, Ian Laughlin is a multi-media eco-artist who was active in New York City’s Lower East Side in the 80s. A resident of the Hudson Valley since 1990\, Laughlin has been dedicated to exploring injustices and finding solutions to the many challenges facing the planet through his art installations and acoustic sculptures. \nABOUT S.C.A.P.E.\nS.C.A.P.E. – (Sculpture\, Community\, Arts\, Peace\, Environment) is an Exhibition of Contemporary Outdoor Sculpture in Woodstock\, NY. Curated by Linda Dubilier and Jen Dragon\, the 2025 outdoor sculpture installation presents contemporary sculpture set in the Catskill Mountain landscape. The Woodstock Spa\, adjacent to the historic Byrdcliffe Colony\, hosts this year’s exhibition. S.C.A.P.E. features fourteen artists’ sculptures that explore The Woodstock Spa’s surrounding meadows and woodlands. Participating artists include: Erika deVries\, Stuart Farmery\, William Greenwood\, Wendy Klemperer\, Bernard Klevickas\, Pascal Knapp\, Alex Kveton\, Ian Laughlin\, Alison McNulty\, Eva Melas\, Lowell Miller\, Portia Munson\, Eileen M. Power\, Gregory Steel\, Suzy Sureck\, Stephen Whisler \nAbout the Woodstock Spa\nThe Woodstock Spa is a day spa that neighbors the historic Byrdcliffe Art Colony in the heart of the Catskill Mountains. With trained practitioners\, modern amenities\, and beautiful surroundings\, the Spa is inspired by nature and art to heal\, support\, and improve the lives of the community.
URL:https://www.woodstockguild.org/event/flow-david-van-tiegham-acoustic-collaboration-with-sculptor-ian-laughlin/
LOCATION:Woodstock Spa\, 62 Ricks Road\, Woodstock\, NY\, 12498\, United States
CATEGORIES:Concert,Exhibition,Special events
ATTACH;FMTTYPE=image/jpeg:https://www.woodstockguild.org/wp-content/uploads/2025/08/Ian-Laughlin-Flow-2025.jpeg
END:VEVENT
BEGIN:VEVENT
DTSTART;TZID=UTC:20250802T160000
DTEND;TZID=UTC:20250802T180000
DTSTAMP:20260421T161703
CREATED:20250718T220537Z
LAST-MODIFIED:20250725T161457Z
UID:14550-1754150400-1754157600@www.woodstockguild.org
SUMMARY:"Salvage Stories" Opening reception
DESCRIPTION:Seven sculptors transform the mundane trash of contemporary society into sculpture that ranges from emotional resonance to historical allusion\, grounded earthiness\, and musical innuendo. Though their decision to repurpose discarded detritus connects to the environmental movements of our time\, more significantly\, these seven artists have chosen upcycled materials because of the compelling textures\, colors\, and indeed also mystique of the items’ utilitarian origins. This show is an exhibition of contrasts between the “high” and “low” of society’s creations\, the destruction of consumerism and the discoveries of art\, the ugly and the beautiful\, the serious and the playful. With skillful twists of form\, manipulation of abstraction\, and subtle – and sometimes even quite direct – references to the figure\, these sculptors bring the long-forgotten stories of human refuse into the poignant personal stories of the artist\, and in the process\, turn the ashes of our manmade world into poignant works of art. Curated by Alice Zinnes and Carol Diamond \nABOUT THE ARTISTS \nEric Banks– Using everything from lint to rusty pipes\, Eric Banks creates unified raw constructions of hope within decay and humor within life’s tortured complexities. \nKen Butler is a musician-artist. Recombining disassociated found objects\, he constructs – and often performs on innovative musical instruments\, transforming our useless waste into objects of whimsy\, joy\, and rhythmic musicality. \nIn Carol Diamond‘s artworks\, found street “junk” of metal\, glass\, concrete\, fabric\, and wire mesh expresses tensions that synthesize into a vision of unity\, repair\, and wholeness. \nBonny Leibowitz produces objects\, installations\, and paintings utilizing manmade and organic materials in ways that often disguise their origin\, blurring the boundaries between the manufactured and the natural. \nReferencing ancient artifacts\, Shari Mendelson’s glistening vessels\, made from plastic bottles\, are so elegant\nand authentic\, that their humble origins are all but impossible to believe. \nWith repurposed cardboard boxes\, concrete\, and sand particles\, Mark Van Wagner’s sculptures suggest archaeological\, architectural\, and anthropomorphic metaphors of conflict and ruin\, protected within a shield of humor and restoration. \nFragility and healing are themes that characterize Shivani Patel’s sculptures and wall pieces. Assembled from scavenged metals\, umbrellas and found rods\, old jewelry\, and other sundry things\, they evoke an intimate poetry of twisting costume design\, and the ornate details of ancient religious architecture\, reflecting her family’s Hindu-Indian heritage. \nABOUT THE CURATORS: \nAlice Zinnes has had seven solo NYC exhibitions\, as well as shows upstate and beyond.  She is a tenured adjunct full professor at Pratt Institute\, and writer of @Entropvisions\, a blog about art exhibitions. She has been an environmentalist her whole life. Between 2007 and 2014\, she was at the center of the burgeoning anti-fracking movement\, and more recently\, she served as the Sustainability Coordinator in her department at Pratt.  She has received awards from The VCCA\, Cummington Community for the Arts\, and The National Academy of Design. \nCarol Diamond is an artist and educator based in New York City.  Her current body of work focuses on hand-built sculpture made from found materials.  Awards include a Purchase Prize from the American Academy of Arts and Letters\, and the National Academy Museum’s Edwin Palmer Prize.  Her art writing has been published in journals such as Art Critical and Two Coats of Paint. Diamond’s artwork is included in public and private collections\, including the Portland\, Oregon Museum of Art. \nRuin\, reconstruction\, and rebirth come into play in the spontaneous processes of these 7 artists – processes open to subconscious unveilings – and which present as enigmatic expressions of the rich mutability of materials. \nFor the exhibition’s closing event\, Ken Butler will perform his original music on some of the sculptural instruments he has made. \nOpening Reception: Saturday\, August 2\, 4-6 pm\nClosing Event and Ken Butler Musical Performance: Sunday\, Sept. 14\, 2-5 pm
URL:https://www.woodstockguild.org/event/salvage-stories-opening-reception/
LOCATION:Kleinert-James Gallery\, 34 Tinker St\, Woodstock\, NY\, 12498\, United States
CATEGORIES:Exhibition,Opening reception
ATTACH;FMTTYPE=image/jpeg:https://www.woodstockguild.org/wp-content/uploads/2025/07/517723876_1295443785818211_2716286354232285004_n-1.jpg
END:VEVENT
BEGIN:VEVENT
DTSTART;TZID=UTC:20250720T110000
DTEND;TZID=UTC:20250720T170000
DTSTAMP:20260421T161703
CREATED:20250716T233429Z
LAST-MODIFIED:20250716T233632Z
UID:14538-1753009200-1753030800@www.woodstockguild.org
SUMMARY:Calvin Grimm: Studio Selects
DESCRIPTION:Curated by Susana Leval and Sylvia Leonard Wolf\, this special solo exhibition features paintings from Calvin’s archive housed in his hand-built home studio in Shady\, NY. The exhibit is a celebration of Calvin’s lifelong career in abstract expressionism and as a fixture of the Woodstock artistic community
URL:https://www.woodstockguild.org/event/calvin-grimm-studio-selects-2/
LOCATION:Byrdcliffe Barn\, 485 Upper Byrdcliffe Rd\, Woodstock\, NY\, 12498\, United States
CATEGORIES:Exhibition
ATTACH;FMTTYPE=image/png:https://www.woodstockguild.org/wp-content/uploads/2025/07/518289552_1298575042171752_1650878922413802574_n-1.png
END:VEVENT
BEGIN:VEVENT
DTSTART;TZID=UTC:20250719T110000
DTEND;TZID=UTC:20250719T170000
DTSTAMP:20260421T161703
CREATED:20250716T233317Z
LAST-MODIFIED:20250716T233317Z
UID:14536-1752922800-1752944400@www.woodstockguild.org
SUMMARY:Calvin Grimm: Studio Selects
DESCRIPTION:Curated by Susana Leval and Sylvia Leonard Wolf\, this special solo exhibition features paintings from Calvin’s archive housed in his hand-built home studio in Shady\, NY. The exhibit is a celebration of Calvin’s lifelong career in abstract expressionism and as a fixture of the Woodstock artistic community
URL:https://www.woodstockguild.org/event/calvin-grimm-studio-selects/
LOCATION:Byrdcliffe Barn\, 485 Upper Byrdcliffe Rd\, Woodstock\, NY\, 12498\, United States
CATEGORIES:Exhibition
ATTACH;FMTTYPE=image/png:https://www.woodstockguild.org/wp-content/uploads/2025/07/518289552_1298575042171752_1650878922413802574_n-1.png
END:VEVENT
BEGIN:VEVENT
DTSTART;TZID=UTC:20250608T120000
DTEND;TZID=UTC:20250720T170000
DTSTAMP:20260421T161703
CREATED:20250605T192747Z
LAST-MODIFIED:20250605T193121Z
UID:14309-1749384000-1753030800@www.woodstockguild.org
SUMMARY:Andrew Lyght | Touch Wood • curated by Osi Audu
DESCRIPTION:The Woodstock Byrdcliffe Guild is pleased to announce Touch Wood\, an exhibition curated by Osi Audu featuring the constructed paintings of artist Andrew Lyght. The exhibition will be on view June 8 – July 20\, 2025.
URL:https://www.woodstockguild.org/event/andrew-lyght-touch-wood-curated-by-osi-audu/
LOCATION:Kleinert-James Gallery\, 34 Tinker St\, Woodstock\, NY\, 12498\, United States
CATEGORIES:Exhibition
ATTACH;FMTTYPE=image/png:https://www.woodstockguild.org/wp-content/uploads/2025/06/unnamed.png
END:VEVENT
BEGIN:VEVENT
DTSTART;TZID=UTC:20250607T160000
DTEND;TZID=UTC:20250607T180000
DTSTAMP:20260421T161703
CREATED:20250605T191813Z
LAST-MODIFIED:20250605T192032Z
UID:14304-1749312000-1749319200@www.woodstockguild.org
SUMMARY:Opening reception: Andrew Lyght | Touch Wood • curated by Osi Audu
DESCRIPTION:With geometric precision\, artist Andrew Lyght uses wood\, cord\, metal\, and the language of abstraction to redefine and articulate space effectively.
URL:https://www.woodstockguild.org/event/opening-reception-andrew-lyght-touch-wood-curated-by-osi-audu/
LOCATION:Kleinert-James Gallery\, 34 Tinker St\, Woodstock\, NY\, 12498\, United States
CATEGORIES:Exhibition
ATTACH;FMTTYPE=image/jpeg:https://www.woodstockguild.org/wp-content/uploads/2025/04/01.-Andrew-Lyght-Linear-11148-2021-22-Red-Oak-Plywood-Paint-Stick-Acrylic-Paint-and-Pencil-Di.-33-x38.3_4_-inches-Courtesy-of-the-Artist-and-Anna-Zorine-Gallery-1-scaled.jpg
END:VEVENT
END:VCALENDAR