BEGIN:VCALENDAR
VERSION:2.0
PRODID:-//Woodstock Byrdcliffe Guild - ECPv6.15.17.1//NONSGML v1.0//EN
CALSCALE:GREGORIAN
METHOD:PUBLISH
X-WR-CALNAME:Woodstock Byrdcliffe Guild
X-ORIGINAL-URL:https://www.woodstockguild.org
X-WR-CALDESC:Events for Woodstock Byrdcliffe Guild
REFRESH-INTERVAL;VALUE=DURATION:PT1H
X-Robots-Tag:noindex
X-PUBLISHED-TTL:PT1H
BEGIN:VTIMEZONE
TZID:UTC
BEGIN:STANDARD
TZOFFSETFROM:+0000
TZOFFSETTO:+0000
TZNAME:UTC
DTSTART:20240101T000000
END:STANDARD
END:VTIMEZONE
BEGIN:VEVENT
DTSTART;TZID=UTC:20251122T150000
DTEND;TZID=UTC:20251122T160000
DTSTAMP:20260421T165435
CREATED:20251121T151847Z
LAST-MODIFIED:20251121T151850Z
UID:15093-1763823600-1763827200@www.woodstockguild.org
SUMMARY:Curator Tour: Sharing the Space
DESCRIPTION:Sharing the Space\nHudson Valley contemporary photographers in dialogue with historic Byrdcliffe artists \nJoin Guest Curator Anne Arden McDonald and Byrdcliffe Resident Historian Henry T. Ford as they lead a Walk & Talk tour of our latest exhibition. \n \n The Walk & Talk is free\, but there is limited space\, so please reserve a spot by emailing info@woodstockguild.org with Curator Tour in the subject line. \n \nSince the artist-founders of Byrdcliffe landed in Woodstock in1902\, artists have sought refuge in the natural beauty of the Hudson Valley. This exhibition brings together historic landscape paintings from the Byrdcliffe collection\, in a dialogue across time with landscape photographs from contemporary photographers\, all sharing the space of the Hudson Valley.
URL:https://www.woodstockguild.org/event/curator-tour-sharing-the-space/
LOCATION:Kleinert-James Gallery\, 34 Tinker St\, Woodstock\, NY\, 12498\, United States
CATEGORIES:Exhibition,Open House / Tours,Special events
ATTACH;FMTTYPE=image/png:https://www.woodstockguild.org/wp-content/uploads/2025/11/Screenshot-2025-10-17-at-5.08.33-PM.png
END:VEVENT
BEGIN:VEVENT
DTSTART;TZID=UTC:20250927T120000
DTEND;TZID=UTC:20250927T130000
DTSTAMP:20260421T165435
CREATED:20250606T153647Z
LAST-MODIFIED:20250606T153647Z
UID:14364-1758974400-1758978000@www.woodstockguild.org
SUMMARY:Open house at Byrdcliffe Colony - Tour Historic White Pines
DESCRIPTION:Step inside White Pines\, the original home of Byrdcliffe’s founders Ralph and Jane Whitehead\, with Byrdcliffe Historian Henry T. Ford and discover how this 1902 utopian arts and crafts colony began. \nMeet on the front porch of White Pines (454 Upper Byrdcliffe Road\, Woodstock\, NY) at noon; suggested donation\, $10. \nAfterwards\,  the Artists-in-Residence at the Byrdcliffe welcomes the public to the fourth of four Summer Open Studios. \nCome celebrate the creative work of our artists-in-residence. With map in hand\, meet the artists\, see their studios\, and experience work in painting\, drawing\, sculpture\, ceramics\, writing\, sound\, and more\, all amidst Byrdcliffe’s historic campus nestled in the Catskill mountains. \nFor a map of participating artists\, location of studios\, and performance line up – Go to Villetta Inn (3 Upper Byrdcliffe Way\, Woodstock\, NY.) \nStudios open\, 1 – 4 pm; readings and performances\, 4 – 5 pm at Byrdcliffe Theatre. This event is free and open to all!
URL:https://www.woodstockguild.org/event/open-house-at-byrdcliffe-colony-tour-historic-white-pines-4/
LOCATION:White Pines @ Byrdcliffe Colony\, 454 Upper Byrdcliffe Rd\, Woodstock\, NY\, 12498\, United States
CATEGORIES:Open House / Tours
ATTACH;FMTTYPE=image/jpeg:https://www.woodstockguild.org/wp-content/uploads/2025/06/Byrcliffe-historian-Henry-Ford-768x413-1.jpg
END:VEVENT
BEGIN:VEVENT
DTSTART;TZID=UTC:20250720T120000
DTEND;TZID=UTC:20250720T130000
DTSTAMP:20260421T165435
CREATED:20250606T152838Z
LAST-MODIFIED:20250630T195302Z
UID:14359-1753012800-1753016400@www.woodstockguild.org
SUMMARY:Open house at Byrdcliffe Colony - Tour Historic White Pines
DESCRIPTION:Step inside White Pines\, the original home of Byrdcliffe’s founders Ralph and Jane Whitehead\, with Byrdcliffe Historian Henry T. Ford and discover how this 1902 utopian arts and crafts colony began. \nMeet on the front porch of White Pines (454 Upper Byrdcliffe Road\, Woodstock\, NY) at noon; suggested donation\, $10. \nAfterwards\,  the Artists-in-Residence at the Byrdcliffe welcomes the public to the second of four Summer Open Studios. \nCome celebrate the creative work of our artists-in-residence. With map in hand\, meet the artists\, see their studios\, and experience work in painting\, drawing\, sculpture\, ceramics\, writing\, sound\, and more\, all amidst Byrdcliffe’s historic campus nestled in the Catskill mountains. \nFor a map of participating artists\, location of studios\, and performance line up – Go to Villetta Inn (3 Upper Byrdcliffe Way\, Woodstock\, NY.) \nStudios open\, 1 – 4 pm; readings and performances\, 4 – 5 pm at Byrdcliffe Theatre. This event is free and open to all!
URL:https://www.woodstockguild.org/event/open-house-at-byrdcliffe-colony-tour-historic-white-pines-2/
LOCATION:White Pines @ Byrdcliffe Colony\, 454 Upper Byrdcliffe Rd\, Woodstock\, NY\, 12498\, United States
CATEGORIES:Open House / Tours
ATTACH;FMTTYPE=image/jpeg:https://www.woodstockguild.org/wp-content/uploads/2025/06/Byrcliffe-historian-Henry-Ford-768x413-1.jpg
END:VEVENT
END:VCALENDAR