BEGIN:VCALENDAR
VERSION:2.0
PRODID:-//Woodstock Byrdcliffe Guild - ECPv6.15.17.1//NONSGML v1.0//EN
CALSCALE:GREGORIAN
METHOD:PUBLISH
X-WR-CALNAME:Woodstock Byrdcliffe Guild
X-ORIGINAL-URL:https://www.woodstockguild.org
X-WR-CALDESC:Events for Woodstock Byrdcliffe Guild
REFRESH-INTERVAL;VALUE=DURATION:PT1H
X-Robots-Tag:noindex
X-PUBLISHED-TTL:PT1H
BEGIN:VTIMEZONE
TZID:UTC
BEGIN:STANDARD
TZOFFSETFROM:+0000
TZOFFSETTO:+0000
TZNAME:UTC
DTSTART:20250101T000000
END:STANDARD
END:VTIMEZONE
BEGIN:VEVENT
DTSTART;TZID=UTC:20260718T130000
DTEND;TZID=UTC:20260718T160000
DTSTAMP:20260421T201218
CREATED:20260420T193219Z
LAST-MODIFIED:20260421T175239Z
UID:16868-1784379600-1784390400@www.woodstockguild.org
SUMMARY:Open Studios: Artists-in-Residence Summer Session II
DESCRIPTION:Byrdcliffe welcomes the public to the second of four Artists-in-Residence Summer Open Studios for 2026. This event is free and open to all! For a map of participating artists\, location of studios\, and performance line up – Go to Villetta Inn (3 Upper Byrdcliffe Way\, Woodstock\, NY.) \nCelebrate the creative work of Byrdcliffe’s Artists-in-Residence. With map in hand\, meet the artists\, see their studios\, and experience work in painting\, drawing\, sculpture\, ceramics\, writing\, sound\, and more\, all amidst Byrdcliffe’s historic campus nestled in the Catskill mountains. Some artist works will be available for sale. \nFor a map of participating artists\, location of studios\, and performance line up – Go to Villetta Inn (3 Upper Byrdcliffe Way\, Woodstock\, NY.) \nStudios open 1 – 4 pm; readings and performances 4 – 5 pm at Byrdcliffe Theatre. This event is free and open to all! \nOpen Studio dates for 2026:\nSession I: June 13\nSession II: July 18\nSession III: August 22\nSession IV: September 26 \nCome early and step inside White Pines\, the original home of Byrdcliffe’s founders Ralph and Jane Whitehead\, with Byrdcliffe Historian Henry T. Ford and discover how this 1902 utopian arts and crafts colony began. Purchase tickets for the White Pines tour.
URL:https://www.woodstockguild.org/event/open-studios-artrists-in-residence-summer-session-ii/
LOCATION:Villetta Inn @ Byrdcliffe Colony\, 3 Upper Byrdcliffe Way\, Woodstock\, NY\, 12498\, United States
CATEGORIES:Open studios
ATTACH;FMTTYPE=image/jpeg:https://www.woodstockguild.org/wp-content/uploads/2025/11/Austen1-session-IV-scaled.jpg
END:VEVENT
END:VCALENDAR