BEGIN:VCALENDAR
VERSION:2.0
PRODID:-//Woodstock Byrdcliffe Guild - ECPv6.15.17.1//NONSGML v1.0//EN
CALSCALE:GREGORIAN
METHOD:PUBLISH
X-ORIGINAL-URL:https://www.woodstockguild.org
X-WR-CALDESC:Events for Woodstock Byrdcliffe Guild
REFRESH-INTERVAL;VALUE=DURATION:PT1H
X-Robots-Tag:noindex
X-PUBLISHED-TTL:PT1H
BEGIN:VTIMEZONE
TZID:UTC
BEGIN:STANDARD
TZOFFSETFROM:+0000
TZOFFSETTO:+0000
TZNAME:UTC
DTSTART:20240101T000000
END:STANDARD
END:VTIMEZONE
BEGIN:VEVENT
DTSTART;TZID=UTC:20250727T150000
DTEND;TZID=UTC:20250727T170000
DTSTAMP:20260422T095027
CREATED:20250619T051117Z
LAST-MODIFIED:20250725T163647Z
UID:14421-1753628400-1753635600@www.woodstockguild.org
SUMMARY:I for an I\, a reading of a new play by Lewis Arlt
DESCRIPTION:purchase tickets \nDirected by Sydnie Grosberg Ronga \nMax is a confident and energetic Broadway performer.  But when he comes face to face with his old school chum Vern\, he senses things aren’t quite right.  He works hard to get back to the old friendship\, but Vern leads him deep into their mutual past\, with the girl they both knew fifteen years ago.  And when she turns up\, things become even scarier. \nLewis Arlt\nA veteran actor for 35 years\, Lewis performed in multiple stints on Broadway\, regional theatre\, and on television\, as well as directing episodes for soaps\, and penning numerous scripts for daytime dramas\, for which he won an Emmy and multiple WGA Awards. \nLewis resides with his wonderful wife Juli in Woodstock\, at the foothills of the Catskill Mountains.  He’s a Trustee on the Board of the Historical Society of Woodstock\, delivers for Meals on Wheels\, and supports the rebirth of the Hudson Valley small farm movement\, and local farm to table ventures.  He is supported by his amazing three daughters\, their spouses and their five extraordinary grandchildren. \nHe and Syd shared quality theatre time in St. Louis at Webster College’s Loretto Hilton Repertory Theatre.  And more recently at two table reads with RTB. \nIt’s good to be back. \nTickets: $10 members\, $15 not-yet members\npurchase tickets \nThis performance will take place at the Kleinert/James Center for the Arts at 34 Tinker St in Woodstock\, NY.  \n\n\n\n\nPart of the Round the Bend Theater Company script reading series. The Woodstock Byrdcliffe Guild is pleased to collaborate with Round the Bend Theatre Company in presenting a series of new plays. Each selected play will be read by professional actors in front of a live audience with the playwright engaging with the audience at the conclusion of the performance.  
URL:https://www.woodstockguild.org/event/i-for-an-i-a-reading-of-a-new-play-by-lewis-arlt/
LOCATION:Kleinert-James Gallery\, 34 Tinker St\, Woodstock\, NY\, 12498\, United States
CATEGORIES:Theatre
ATTACH;FMTTYPE=image/jpeg:https://www.woodstockguild.org/wp-content/uploads/2025/06/I-for-an-I.jpeg
END:VEVENT
END:VCALENDAR