BEGIN:VCALENDAR
VERSION:2.0
PRODID:-//Woodstock Byrdcliffe Guild - ECPv6.15.17.1//NONSGML v1.0//EN
CALSCALE:GREGORIAN
METHOD:PUBLISH
X-WR-CALNAME:Woodstock Byrdcliffe Guild
X-ORIGINAL-URL:https://www.woodstockguild.org
X-WR-CALDESC:Events for Woodstock Byrdcliffe Guild
REFRESH-INTERVAL;VALUE=DURATION:PT1H
X-Robots-Tag:noindex
X-PUBLISHED-TTL:PT1H
BEGIN:VTIMEZONE
TZID:UTC
BEGIN:STANDARD
TZOFFSETFROM:+0000
TZOFFSETTO:+0000
TZNAME:UTC
DTSTART:20250101T000000
END:STANDARD
END:VTIMEZONE
BEGIN:VEVENT
DTSTART;TZID=UTC:20260712T150000
DTEND;TZID=UTC:20260712T170000
DTSTAMP:20260424T114210
CREATED:20260423T172306Z
LAST-MODIFIED:20260423T182238Z
UID:17006-1783868400-1783875600@www.woodstockguild.org
SUMMARY:Loving Vivian\, A New Musical by Timothy Brown & Daniel Chadwick
DESCRIPTION:PURCHASE TICKETS \nAt 82\, Vivian\, a legendary singer\, actress\, and songwriter\, is incommunicative with dementia. When she moves into her daughter\, Eleanor’s home\, everyone in the family is excited\, except Eleanor. When her son brings home an avid Vivian fan and would-be biographer who knows how to get Vivian talking lucidly about her checkered past\, Eleanor becomes even more uneasy. What secrets might be revealed? \nDaniel Martin Chadwick (Book\, Lyrics\, and Music) is an American playwright\, novelist\, short story writer\, lyricist\, and composer. His fiction is mostly horror\, speculative\, urban fantasy\, and psychological thrillers that come from the dark catacombs of his mind. He lives in a secret paradise in South America where he fills his days with reading\, writing\, chocolate\, coffee\, lots of sunshine\, and his two cats\, Tadzio and Fausto\, who may or may not be reincarnated gods\, (but probably are). \nTimothy Brown (Music and Arrangements) Composer\, arranger\, and copyist made his debut in music for the theatre with Curious George which toured nationally in a production by Theatreworks/USA for nearly ten years. Soon after that success his short musical\, The Cost of Living – with Broadway veteran\, George Gorham – premiered at The West Bank Theatre. Another Gorham/Brown collaboration\, Come Dance With Me\, was a finalist in the Dramatists Guild showcase. Tim was honored to be included in a concert of “classical” works by “theatre” composers presented by The Other Side of Broadway; his Incidental Dance Suite for solo piano was premiered alongside pieces by renowned Broadway composers\, Galt MacDermot\, David Amram\, and Charles Strouse at Merkin Concert Hall in New York. He has been a music assistant to Broadway legend John Kander and on several major shows for Broadway music directors\, David Loud\, Patrick Vaccarrielo\, and Todd Ellison. Tim is a veteran of the Lehman Engel Musical Theatre Writers Workshop (BMI). \nPURCHASE TICKETS \n  \nIn partnership with Round The Bend Theatre  — a mobile theater company with a mission to encourage Hudson Valley playwrights and their work in development. Through the process of inclusive readings and reflection\, new voices are nurtured for future work.   \nEach play in the series will be read by professional actors\, followed by a discussion with the playwright and audience. \nAdditional Round the Bend Theater productions at Byrdclffe Theater: \nSunday\, June 14\, 2026\, 3 PM\nThe Dummies Guide to Murdering Your Husband\, a reading of a new play by Nathan Johnson\nPURCHASE TICKETS | ADDITIONAL INFORMATION \nSunday\, June 28\, 2026\, 3 PM\nPlay-Off\, a reading of a new play by Jason Wang\nPURCHASE TICKETS | ADDITIONAL INFORMATION \nSunday\, July 12\, 2026\, 3 PM\nLoving Vivian\, a new musical by Timothy Brown and Daniel Chadwick\nPURCHASE TICKETS | ADDITIONAL INFORMATION \nSunday\, July 26\, 2026\, 3 PM\nThe Goodness Robot\, a reading of a new play by Paul Allman\npurchase tickets | additional information \nSunday\, August 9\, 2026\, 3 PM\nLet There Be\, a reading of a new play by Stephen Kaplan\npurchase tickets | additional information \nSunday\, August 23\, 2026\, 3 PM\nJulia C\, a reading of a new play by Daniel Pink\npurchase tickets | additional information \n 
URL:https://www.woodstockguild.org/event/loving-vivian-a-new-musical-by-timothy-brown-daniel-chadwick/
LOCATION:Byrdcliffe Theatre\, 380 Upper Byrdcliffe Rd\, Woodstock\, NY\, 12498\, United States
CATEGORIES:Theatre
ATTACH;FMTTYPE=image/jpeg:https://www.woodstockguild.org/wp-content/uploads/2026/04/daniel-brown-e1776966358312.jpeg
END:VEVENT
END:VCALENDAR