BEGIN:VCALENDAR
VERSION:2.0
PRODID:-//Woodstock Byrdcliffe Guild - ECPv6.15.17.1//NONSGML v1.0//EN
CALSCALE:GREGORIAN
METHOD:PUBLISH
X-WR-CALNAME:Woodstock Byrdcliffe Guild
X-ORIGINAL-URL:https://www.woodstockguild.org
X-WR-CALDESC:Events for Woodstock Byrdcliffe Guild
REFRESH-INTERVAL;VALUE=DURATION:PT1H
X-Robots-Tag:noindex
X-PUBLISHED-TTL:PT1H
BEGIN:VTIMEZONE
TZID:UTC
BEGIN:STANDARD
TZOFFSETFROM:+0000
TZOFFSETTO:+0000
TZNAME:UTC
DTSTART:20250101T000000
END:STANDARD
END:VTIMEZONE
BEGIN:VEVENT
DTSTART;TZID=UTC:20260718T130000
DTEND;TZID=UTC:20260718T160000
DTSTAMP:20260421T161343
CREATED:20260420T193219Z
LAST-MODIFIED:20260421T143608Z
UID:16868-1784379600-1784390400@www.woodstockguild.org
SUMMARY:Open Studios: Artists-in-Residence Summer Session II
DESCRIPTION:The Artists-in-Residence at the Byrdcliffe welcomes the public to the second of four Summer Open Studios for 2026. \nCome celebrate the creative work of our artists-in-residence. With map in hand\, meet the artists\, see their studios\, and experience work in painting\, drawing\, sculpture\, ceramics\, writing\, sound\, and more\, all amidst Byrdcliffe’s historic campus nestled in the Catskill mountains. Some artist woks will be available for sale. \nFor a map of participating artists\, location of studios\, and performance line up – Go to Villetta Inn (3 Upper Byrdcliffe Way\, Woodstock\, NY.) \nStudios open 1 – 4 pm; readings and performances 4 – 5 pm at Byrdcliffe Theatre. This event is free and open to all! \nAdditional Open Studio dates for 2026:\nSession I: June 13\nSession III: August 22\nSession IV: September 26 \nCome early and step inside White Pines\, the original home of Byrdcliffe’s founders Ralph and Jane Whitehead\, with Byrdcliffe Historian Henry T. Ford and discover how this 1902 utopian arts and crafts colony began. Purchase tickets for the White Pines tour.
URL:https://www.woodstockguild.org/event/open-studios-artrists-in-residence-summer-session-ii/
LOCATION:Villetta Inn @ Byrdcliffe Colony\, 3 Upper Byrdcliffe Way\, Woodstock\, NY\, 12498\, United States
CATEGORIES:Open studios
ATTACH;FMTTYPE=image/jpeg:https://www.woodstockguild.org/wp-content/uploads/2025/11/Austen1-session-IV-scaled.jpg
END:VEVENT
BEGIN:VEVENT
DTSTART;TZID=UTC:20260719T160000
DTEND;TZID=UTC:20260719T183000
DTSTAMP:20260421T161343
CREATED:20260420T171333Z
LAST-MODIFIED:20260420T180258Z
UID:16846-1784476800-1784485800@www.woodstockguild.org
SUMMARY:WITH PETER BRADLEY film screening and evening with the filmmaker
DESCRIPTION:Purchase tickets \nFilmmaker Alex Rappoport has crafted a stunningly beautiful and sensitive portrait of a major painter\, curator and thinker—an artist who came of age and prominence during a time of significant racial turmoil\, only to recede into the backdrop of a 1980s art scene that was moving in another direction. Bradley hadn’t had a solo exhibition for decades until gallerist Robert Langdon presented one in 2019.  Bradley is still working in Upstate New York and is now represented by Karma Gallery in NYC & Los Angeles. \nJoin us for a very special evening of film and conversation with filmmaker Alex Rappoport in conversation with gallerist Robert Langdon. \n  \nPurchase tickets \nView WITH PETER BRADLEY film trailer
URL:https://www.woodstockguild.org/event/with-peter-bradley-film-screening-and-evening-with-the-filmmaker/
LOCATION:Byrdcliffe Theatre\, 380 Upper Byrdcliffe Rd\, Woodstock\, NY\, 12498\, United States
CATEGORIES:Film Screening,Special events
ATTACH;FMTTYPE=image/jpeg:https://www.woodstockguild.org/wp-content/uploads/2026/04/WPB_Still_Paint1-1-1600x900-c-default-1.jpg
END:VEVENT
BEGIN:VEVENT
DTSTART;TZID=UTC:20260822T120000
DTEND;TZID=UTC:20260822T130000
DTSTAMP:20260421T161343
CREATED:20260420T205032Z
LAST-MODIFIED:20260420T205206Z
UID:16887-1787400000-1787403600@www.woodstockguild.org
SUMMARY:Public tour of White Pines
DESCRIPTION:Purchase tickets for August 22 group tour \nStep inside White Pines\, the original home of Byrdcliffe’s founders\, Ralph and Jane Whitehead\, and discover how this 1902 utopian Arts and Crafts colony began. \nGroup Tours\nThe Group Tour includes a guided tour of White Pines home and a Self-Guided Walking Tour & History Map of the Byrdcliffe Colony Campus that you can use either before or after your White Pines Tour. \n$15 Byrdcliffe Members\n$30 Not-Yet-Members \nAdditional group tour dates: \nJune 13\, 2026: purchase tickets  \nJuly 18\, 2026: purchase tickets \nAugust 22\, 2026: purchase tickets \nSeptember 26\, 2026: purchase tickets \n  \nArtists-in-Residence Open Studios\nVisit with our Artists-in-Residence during Open Studios immediately following your tour. With map in hand\, meet the artists\, see their studios\, and experience work in painting\, drawing\, sculpture\, ceramics\, writing\, filmmakers\, animators\, and more. \n  \nPrivate Tours\nIf you cannot make a scheduled Group Tour\, or would like to gather some friends for a special occasion\, we offer a Private Tour of White Pines scheduled at your convenience for $250. To schedule a tour\, please email info@woodstockguild.org
URL:https://www.woodstockguild.org/event/public-tour-of-white-pines-2/
LOCATION:White Pines @ Byrdcliffe Colony\, 454 Upper Byrdcliffe Rd\, Woodstock\, NY\, 12498\, United States
CATEGORIES:Historic,Open House / Tours,Tour
ATTACH;FMTTYPE=image/heic:https://www.woodstockguild.org/wp-content/uploads/2025/12/IMG_1562-scaled.jpg
END:VEVENT
BEGIN:VEVENT
DTSTART;TZID=UTC:20260822T130000
DTEND;TZID=UTC:20260822T160000
DTSTAMP:20260421T161343
CREATED:20260420T205414Z
LAST-MODIFIED:20260421T143543Z
UID:16891-1787403600-1787414400@www.woodstockguild.org
SUMMARY:Open Studios: Artists-in-Residence Summer Session III
DESCRIPTION:The Artists-in-Residence at the Byrdcliffe welcomes the public to the third of four Summer Open Studios for 2026. \nCome celebrate the creative work of our artists-in-residence. With map in hand\, meet the artists\, see their studios\, and experience work in painting\, drawing\, sculpture\, ceramics\, writing\, sound\, and more\, all amidst Byrdcliffe’s historic campus nestled in the Catskill mountains. Some artist woks will be available for sale. \nFor a map of participating artists\, location of studios\, and performance line up – Go to Villetta Inn (3 Upper Byrdcliffe Way\, Woodstock\, NY.) \nStudios open 1 – 4 pm; readings and performances 4 – 5 pm at Byrdcliffe Theatre. This event is free and open to all! \nAdditional Open Studio dates for 2026:\nSession I: June 13\nSession II: July 18\nSession III: August 22\nSession IV: September 26 \nCome early and step inside White Pines\, the original home of Byrdcliffe’s founders Ralph and Jane Whitehead\, with Byrdcliffe Historian Henry T. Ford and discover how this 1902 utopian arts and crafts colony began. Purchase tickets for the White Pines tour.
URL:https://www.woodstockguild.org/event/open-studios-artrists-in-residence-summer-session-iii/
LOCATION:Villetta Inn @ Byrdcliffe Colony\, 3 Upper Byrdcliffe Way\, Woodstock\, NY\, 12498\, United States
CATEGORIES:Open studios
ATTACH;FMTTYPE=image/jpeg:https://www.woodstockguild.org/wp-content/uploads/2025/11/byrdcliffe2-copy.jpg
END:VEVENT
BEGIN:VEVENT
DTSTART;TZID=UTC:20260926T120000
DTEND;TZID=UTC:20260926T130000
DTSTAMP:20260421T161343
CREATED:20260420T205552Z
LAST-MODIFIED:20260420T205724Z
UID:16893-1790424000-1790427600@www.woodstockguild.org
SUMMARY:Public tour of White Pines
DESCRIPTION:Purchase tickets for September 26 group tour \nStep inside White Pines\, the original home of Byrdcliffe’s founders\, Ralph and Jane Whitehead\, and discover how this 1902 utopian Arts and Crafts colony began. \nGroup Tours\nThe Group Tour includes a guided tour of White Pines home and a Self-Guided Walking Tour & History Map of the Byrdcliffe Colony Campus that you can use either before or after your White Pines Tour. \n$15 Byrdcliffe Members\n$30 Not-Yet-Members \nAdditional group tour dates: \nJune 13\, 2026: purchase tickets  \nJuly 18\, 2026: purchase tickets \nAugust 22\, 2026: purchase tickets \nSeptember 26\, 2026: purchase tickets \n  \nArtists-in-Residence Open Studios\nVisit with our Artists-in-Residence during Open Studios immediately following your tour. With map in hand\, meet the artists\, see their studios\, and experience work in painting\, drawing\, sculpture\, ceramics\, writing\, filmmakers\, animators\, and more. \n  \nPrivate Tours\nIf you cannot make a scheduled Group Tour\, or would like to gather some friends for a special occasion\, we offer a Private Tour of White Pines scheduled at your convenience for $250. To schedule a tour\, please email info@woodstockguild.org
URL:https://www.woodstockguild.org/event/public-tour-of-white-pines-3/
LOCATION:White Pines @ Byrdcliffe Colony\, 454 Upper Byrdcliffe Rd\, Woodstock\, NY\, 12498\, United States
CATEGORIES:Historic,Open House / Tours,Tour
ATTACH;FMTTYPE=image/jpeg:https://www.woodstockguild.org/wp-content/uploads/2023/05/White-Pines-interior.jpg
END:VEVENT
BEGIN:VEVENT
DTSTART;TZID=UTC:20260926T130000
DTEND;TZID=UTC:20260926T160000
DTSTAMP:20260421T161343
CREATED:20260420T210258Z
LAST-MODIFIED:20260421T143521Z
UID:16897-1790427600-1790438400@www.woodstockguild.org
SUMMARY:Open Studios: Artists-in-Residence Summer Session IV
DESCRIPTION:The Artists-in-Residence at the Byrdcliffe welcomes the public to the last of four Summer Open Studios for 2026. \nCome celebrate the creative work of our artists-in-residence. With map in hand\, meet the artists\, see their studios\, and experience work in painting\, drawing\, sculpture\, ceramics\, writing\, sound\, and more\, all amidst Byrdcliffe’s historic campus nestled in the Catskill mountains. Some artist woks will be available for sale. \nFor a map of participating artists\, location of studios\, and performance line up – Go to Villetta Inn (3 Upper Byrdcliffe Way\, Woodstock\, NY.) \nStudios open 1 – 4 pm; readings and performances 4 – 5 pm at Byrdcliffe Theatre. This event is free and open to all! \nAdditional Open Studio dates for 2026:\nSession I: June 13\nSession II: July 18\nSession III: August 22\nSession IV: September 26 \nCome early and step inside White Pines\, the original home of Byrdcliffe’s founders Ralph and Jane Whitehead\, with Byrdcliffe Historian Henry T. Ford and discover how this 1902 utopian arts and crafts colony began. Purchase tickets for the White Pines tour.
URL:https://www.woodstockguild.org/event/open-studios-artrists-in-residence-summer-session-iv/
LOCATION:Villetta Inn @ Byrdcliffe Colony\, 3 Upper Byrdcliffe Way\, Woodstock\, NY\, 12498\, United States
CATEGORIES:Open studios
ATTACH;FMTTYPE=image/jpeg:https://www.woodstockguild.org/wp-content/uploads/2025/11/IMG_20240720_161625631_HDR-scaled.jpg
END:VEVENT
END:VCALENDAR